{
 "documentInfo": {
  "Category": "",
  "Keywords": "Photo,MOAGIS,Anchorage",
  "Version": "10.1",
  "Comments": "Photo 2015 Anchorage",
  "AntialiasingMode": "None",
  "Title": "",
  "Author": "",
  "TextAntialiasingMode": "Force",
  "Subject": "Photo 2015 Anchorage"
 },
 "maxImageWidth": 4096,
 "wmtsScaleFactor": 0.00028000000000003521,
 "maxRecordCount": 1000,
 "tileInfo": {
  "lods": [
   {
    "level": 0,
    "scale": 591657527.591555,
    "resolution": 156543.03392800014
   },
   {
    "level": 1,
    "scale": 295828763.79577702,
    "resolution": 78271.516963999937
   },
   {
    "level": 2,
    "scale": 147914381.89788899,
    "resolution": 39135.758482000092
   },
   {
    "level": 3,
    "scale": 73957190.948944002,
    "resolution": 19567.879240999919
   },
   {
    "level": 4,
    "scale": 36978595.474472001,
    "resolution": 9783.9396204999593
   },
   {
    "level": 5,
    "scale": 18489297.737236001,
    "resolution": 4891.9698102499797
   },
   {
    "level": 6,
    "scale": 9244648.8686180003,
    "resolution": 2445.9849051249898
   },
   {
    "level": 7,
    "scale": 4622324.4343090001,
    "resolution": 1222.9924525624949
   },
   {
    "level": 8,
    "scale": 2311162.2171550002,
    "resolution": 611.49622628137968
   },
   {
    "level": 9,
    "scale": 1155581.108577,
    "resolution": 305.74811314055756
   },
   {
    "level": 10,
    "scale": 577790.55428899999,
    "resolution": 152.87405657041106
   },
   {
    "level": 11,
    "scale": 288895.27714399999,
    "resolution": 76.437028285073239
   },
   {
    "level": 12,
    "scale": 144447.638572,
    "resolution": 38.21851414253662
   },
   {
    "level": 13,
    "scale": 72223.819285999998,
    "resolution": 19.10925707126831
   },
   {
    "level": 14,
    "scale": 36111.909642999999,
    "resolution": 9.5546285356341549
   },
   {
    "level": 15,
    "scale": 18055.954822,
    "resolution": 4.7773142679493699
   },
   {
    "level": 16,
    "scale": 9027.9774109999998,
    "resolution": 2.3886571339746849
   },
   {
    "level": 17,
    "scale": 4513.9887049999998,
    "resolution": 1.1943285668550503
   },
   {
    "level": 18,
    "scale": 2256.994353,
    "resolution": 0.59716428355981721
   },
   {
    "level": 19,
    "scale": 1128.4971760000001,
    "resolution": 0.29858214164761665
   },
   {
    "level": 20,
    "scale": 564.24858800000004,
    "resolution": 0.14929107082380833
   },
   {
    "level": 21,
    "scale": 282.12429400000002,
    "resolution": 0.074645535411904163
   },
   {
    "level": 22,
    "scale": 141.06214700000001,
    "resolution": 0.037322767705952081
   },
   {
    "level": 23,
    "scale": 70.531073500000005,
    "resolution": 0.018661383852976041
   }
  ],
  "origin": {
   "x": -20037508.342787001,
   "y": 20037508.342787001
  },
  "format": "MIXED",
  "compressionQuality": 75,
  "rows": 256,
  "dpi": 96,
  "spatialReference": {
   "falseM": -100000,
   "xyTolerance": 0.001,
   "mUnits": 10000,
   "zUnits": 10000,
   "latestWkid": 3857,
   "zTolerance": 0.001,
   "wkid": 102100,
   "xyUnits": 148923141.928385377,
   "mTolerance": 0.001,
   "falseX": -20037700,
   "falseY": -30241100,
   "falseZ": -100000
  },
  "cols": 256
 },
 "description": "",
 "datesInUnknownTimezone": false,
 "supportsQueryDomains": true,
 "units": "esriMeters",
 "maxSelectionCount": 2000,
 "supportedImageFormatTypes": "PNG32,PNG24,PNG,JPG,DIB,TIFF,EMF,PS,PDF,GIF,SVG,SVGZ,BMP",
 "supportsClipping": true,
 "exportTilesAllowed": false,
 "maxImageHeight": 4096,
 "tables": [],
 "hasVersionedData": false,
 "supportsDatumTransformation": true,
 "cimVersion": "3.7.0",
 "supportsQueryDataElements": true,
 "layers": [
  {
   "subLayerIds": [
    1,
    2,
    3
   ],
   "maxScale": 0,
   "name": "Imagery2015",
   "defaultVisibility": true,
   "id": 0,
   "minScale": 0,
   "supportsDynamicLegends": false,
   "type": "Mosaic Layer",
   "parentLayerId": -1
  },
  {
   "subLayerIds": null,
   "maxScale": 0,
   "name": "Boundary",
   "defaultVisibility": false,
   "id": 1,
   "minScale": 0,
   "supportsDynamicLegends": true,
   "type": "Feature Layer",
   "parentLayerId": 0,
   "geometryType": "esriGeometryPolygon"
  },
  {
   "subLayerIds": null,
   "maxScale": 0,
   "name": "Footprint",
   "defaultVisibility": false,
   "id": 2,
   "minScale": 0,
   "supportsDynamicLegends": true,
   "type": "Feature Layer",
   "parentLayerId": 0,
   "geometryType": "esriGeometryPolygon"
  },
  {
   "subLayerIds": null,
   "maxScale": 0,
   "name": "Image",
   "defaultVisibility": true,
   "id": 3,
   "minScale": 0,
   "supportsDynamicLegends": true,
   "type": "Raster Layer",
   "parentLayerId": 0
  }
 ],
 "mapName": "Layers",
 "minScale": 2311162.2171550002,
 "archivingInfo": {
  "supportsHistoricMoment": false
 },
 "spatialReference": {
  "falseM": -100000,
  "xyTolerance": 0.001,
  "mUnits": 10000,
  "zUnits": 10000,
  "latestWkid": 3857,
  "zTolerance": 0.001,
  "wkid": 102100,
  "xyUnits": 148923141.928385377,
  "mTolerance": 0.001,
  "falseX": -20037700,
  "falseY": -30241100,
  "falseZ": -100000
 },
 "tileImageInfo": {
  "bandCount": 1,
  "lercError": 0,
  "format": "MIXED",
  "compressionQuality": 75
 },
 "fullExtent": {
  "ymin": 8564235.9596889727,
  "xmin": -16747251.268846652,
  "ymax": 8741426.2038023677,
  "xmax": -16558028.915687941,
  "spatialReference": {
   "falseM": -100000,
   "xyTolerance": 0.001,
   "mUnits": 10000,
   "zUnits": 10000,
   "latestWkid": 3857,
   "zTolerance": 0.001,
   "wkid": 102100,
   "xyUnits": 148923141.928385377,
   "mTolerance": 0.001,
   "falseX": -20037700,
   "falseY": -30241100,
   "falseZ": -100000
  }
 },
 "supportedExtensions": "",
 "capabilities": "Map,Query,Data",
 "supportsDynamicLayers": true,
 "maxScale": 282.12429400000002,
 "singleFusedMapCache": true,
 "currentVersion": 12.1,
 "storageInfo": {
  "storageFormat": "esriMapCacheStorageModeCompactV2",
  "packetSize": 128
 },
 "hasBranchVersionedData": false,
 "mapUnits": {
  "uwkid": 9001
 },
 "referenceScale": 0,
 "supportsSpatialFilter": true,
 "supportedQueryFormats": "JSON, geoJSON, PBF",
 "datumTransformations": [
  {
   "geoTransforms": [
    {
     "latestWkid": 1241,
     "transformForward": true,
     "wkid": 108001,
     "name": "NAD_1927_To_NAD_1983_NADCON"
    }
   ]
  },
  {
   "geoTransforms": [
    {
     "latestWkid": 1241,
     "transformForward": false,
     "wkid": 108001,
     "name": "NAD_1927_To_NAD_1983_NADCON"
    }
   ]
  }
 ],
 "initialExtent": {
  "ymin": 8642129.6211751327,
  "xmin": -16809594.847301856,
  "ymax": 8750285.7160080373,
  "xmax": -16495685.337232737,
  "spatialReference": {
   "falseM": -100000,
   "xyTolerance": 0.001,
   "mUnits": 10000,
   "zUnits": 10000,
   "latestWkid": 3857,
   "zTolerance": 0.001,
   "wkid": 102100,
   "xyUnits": 148923141.928385377,
   "mTolerance": 0.001,
   "falseX": -20037700,
   "falseY": -30241100,
   "falseZ": -100000
  }
 },
 "serviceDescription": "Photo 2015 Anchorage",
 "copyrightText": "",
 "supportsTimeRelation": true
}
